Workbook

Sheet 공사설명서
A1: 공 사 설 명 서
A3: 1. 공 사 명: 송도2동 공영주차장 배수로 트렌치커버 설치 공사
A4: 2. 공사위치: 인천광역시 연수구 송도동 16-2번지 일원
A5: 3. 공사목적: 위험성 평가에 따른 배수로 트렌치 커버 설치 로 이용객의 안전사고 예방
A6: 4. 공사내용: 아연각관 지지대 설치, 배수로 모르타르 보수, 트렌치 커버 사이즈 조정 및 설치
A7: 5. 공사기간: 착공일로부터 15일이내로 한다.
B8: (단 다음의 경우에 한하여 공사기간을 연기할 수 있다.)
B9: - 천재지변으로 인하여 공사가 중단 된 때
B10: - 시행부서의 지시에 의하여 작업이 중단된 때
A11: 6. 예정공정표
A12: 공종 공사기간 공기 | C12: 착공일로 부터 15일 이내
C13: 7 | J13: 9 | L13: 11 | N13: 13 | P13: 15
A14: 착공 및 자재준비
A16: 아연각관 지지대 설치
A18: 모르타르 보수 및 양생
A20: 트렌치 커버 설치
A22: 현장 정리 및 준공검사

Sheet 공사원가계산서
A1: 공 사 원 가 계 산 서
A3: 비 목 | D3: 금 액 | E3: 구 성 비 | F3: 비 고
B4: 재 | C4: 직 접 재 료 비
B5: 료 | C5: 간 접 재 료 비
A6: 순 | B6: 비 | C6: [ 소 계 ]
B7: 노 | C7: 직 접 노 무 비
A8: 공 | B8: 무 | C8: 간 접 노 무 비 | E8: 직접노무비*16.5%
B9: 비 | C9: [ 소 계 ]
A10: 사 | C10: 기 계 경 비
B11: 경 | C11: 산 재 보 험 료 | E11: 노무비*3.56%
A12: 원 | C12: 고 용 보 험 료 | E12: 노무비*1.01%
C13: 퇴직 공제 부금
A14: 가 | B14: 비 | C14: 산 업 안 전보건 관 리 비 | E14: (직접노무비+재료비)*3.15%
C15: 기 타 경 비 | E15: (재료비+노무비)*5.2%
C16: [ 소 계 ]
A17: 합 계
A18: 일반관리비 | E18: (재료비+노무비+경비)*8%
A19: 이 윤 | E19: (노무비+경비+일반관리비)*15% | F19: =SUM(D9,D16,D18)*15% -> 0
A20: 공급가액
A21: 부가가치세
A22: 공 사 금 액

Sheet 설계내역서
A1: 설 계 내 역 서
A2: =공사설명서!A3 -> 1. 공 사 명: 송도2동 공영주차장 배수로 트렌치커버 설치 공사
A3: 품 명 | B3: 규 격 | C3: 단 위 | D3: 수 량 | E3: 재 료 비 | G3: 노 무 비 | I3: 경 비 | K3: 합 계
E4: 단 가 | F4: 금 액 | G4: 단 가 | H4: 금 액 | I4: 단 가 | J4: 금 액
A5: 송도2동 공영주차장 배수로 트렌치커버 설치 공사 | IR5: =SUM(A5:IQ5) -> 0
A6: 아연각관 지지대 제작 및 설치(TON) | B6: =물량산출내역서!A6 -> 아연각관 | C6: EA | D6: =물량산출내역서!D6 -> 46 | K6: =SUM(F6+H6+J6) -> 0
B7: 철공 | C7: 인 | K7: =SUM(F7+H7+J7) -> 0
B8: 용접공 | C8: 인 | K8: =SUM(F8+H8+J8) -> 0
B9: 특별인부 | C9: 인 | K9: =SUM(F9+H9+J9) -> 0
B10: 보통인부 | C10: 인 | K10: =SUM(F10+H10+J10) -> 0
A11: 배수로 구체 모르타르 보수(일당) | B11: 모르타르 | C11: EA | D11: =물량산출내역서!D7 -> 40 | K11: =F11+H11+J11 -> 0
B12: 미장공 | C12: 인 | K12: =F12+H12+J12 -> 0
B13: 보통인부 | C13: 인 | K13: =F13+H13+J13 -> 0
A14: 스틸그레이팅(트렌치 커버) 설치(ton) | B14: =물량산출내역서!A4 -> 스틸그레이팅 | C14: 조 | D14: =물량산출내역서!D4 -> 30 | K14: =J14+H14+F14 -> 0
B15: =물량산출내역서!A5 -> 스틸그레이팅 | C15: 조 | D15: =물량산출내역서!D5 -> 100 | K15: =J15+H15+F15 -> 0
B16: 보통인부 | C16: 인 | D16: 1 | K16: =J16+H16+F16 -> 0
F17: =SUM(F6:F16) -> 0 | H17: =SUM(H6:H16) -> 0 | J17: =SUM(J6:J16) -> 0 | K17: =SUM(K6:K16) -> 0

Sheet 물량산출내역서
A1: 물 량 산 출 내 역 서
A2: =공사설명서!A3 -> 1. 공 사 명: 송도2동 공영주차장 배수로 트렌치커버 설치 공사
A3: 구분 | B3: 산 출 내 역 | C3: 단위 | D3: 수량 | E3: 비고
A4: 스틸그레이팅 | B4: 200*1,000 / 25*5*3 | C4: 조 | D4: 30 | E4: 로스분 적용
A5: 스틸그레이팅 | B5: 300*1,000 / 25*5*3 | C5: 조 | D5: 100
A6: 아연각관 | B6: 30*30*t2.3*6,000 | C6: 본 | D6: 46
A7: 모르타르 | B7: 40kg | C7: EA | D7: 40

Sheet 현장사진대지
A1: 공 사 설 계 도 및 도 안
A2: ○ 공 사 명: 송도2동 공영주차장 배수로 트렌치커버 설치 공사
A3: ○ 공사위치: 인천광역시 연수구 송도동 16-2번지 일원
B20: 송도2동 공영주차장 전경 | I20: 트렌치 커버 설치구역
A35: 보수 전_ 각관설치, 모르타르 보수, 커버설치필요 | I35: 트렌치 커버 설치(예시)
